BEGIN:VCALENDAR
VERSION:2.0
PRODID:-//Irtess - ECPv6.0.13.1//NONSGML v1.0//EN
CALSCALE:GREGORIAN
METHOD:PUBLISH
X-ORIGINAL-URL:https://www.irtess.fr
X-WR-CALDESC:évènements pour Irtess
REFRESH-INTERVAL;VALUE=DURATION:PT1H
X-Robots-Tag:noindex
X-PUBLISHED-TTL:PT1H
BEGIN:VTIMEZONE
TZID:Europe/Paris
BEGIN:DAYLIGHT
TZOFFSETFROM:+0100
TZOFFSETTO:+0200
TZNAME:CEST
DTSTART:20260329T010000
END:DAYLIGHT
BEGIN:STANDARD
TZOFFSETFROM:+0200
TZOFFSETTO:+0100
TZNAME:CET
DTSTART:20261025T010000
END:STANDARD
END:VTIMEZONE
BEGIN:VEVENT
DTSTART;TZID=Europe/Paris:20260522T091500
DTEND;TZID=Europe/Paris:20260522T161500
DTSTAMP:20260420T115501
CREATED:20260302T153929Z
LAST-MODIFIED:20260302T154052Z
UID:10000286-1779441300-1779466500@www.irtess.fr
SUMMARY:L‘accueil en famille dans l’Union européenne Allemagne-Belgique-France
DESCRIPTION:Journée d’étude en format hybride\, organisée dans le cadre du Mois de l’Europe. Voir le flyer. Présentiel privilégié pour favoriser les échanges. Afin de permettre la participation des professionnels intéressés éloignés géographiquement\, la conférence sera également proposée en visio ; un lien Teams sera envoyé aux personnes intéressées après inscription. Entrée gratuite. Inscription obligatoire jusqu’au 18 mai 2026. S’inscrire
URL:https://www.irtess.fr/evenement/laccueil-en-famille-dans-lunion-europeenne-allemagne-belgique-france/
LOCATION:Dijon
CATEGORIES:Journée d'étude
ATTACH;FMTTYPE=image/png:https://www.irtess.fr/wp-content/uploads/2022/07/IRTESS_header_blocmarque_PREFAS.png
END:VEVENT
END:VCALENDAR